BEGIN:VCALENDAR
VERSION:2.0
PRODID:-//KRCS Men&#039;s Group - ECPv6.2.8.2//NONSGML v1.0//EN
CALSCALE:GREGORIAN
METHOD:PUBLISH
X-WR-CALNAME:KRCS Men&#039;s Group
X-ORIGINAL-URL:https://krcsmensgroup.com
X-WR-CALDESC:Events for KRCS Men&#039;s Group
REFRESH-INTERVAL;VALUE=DURATION:PT1H
X-Robots-Tag:noindex
X-PUBLISHED-TTL:PT1H
BEGIN:VTIMEZONE
TZID:-05:00
END:VTIMEZONE
BEGIN:VEVENT
DTSTART;TZID=-05:00:20250117T070000
DTEND;TZID=-05:00:20250117T083000
DTSTAMP:20260423T182256
CREATED:20240731T200044Z
LAST-MODIFIED:20250116T184055Z
UID:24511-1737097200-1737102600@krcsmensgroup.com
SUMMARY:Men's Group Meetup at the High School (Upper School-Howe Commons)
DESCRIPTION:
URL:https://krcsmensgroup.com/event/mens-group-meetup-at-the-student-center-23/
LOCATION:King’s Ridge Christian School\, 2765 Bethany Bend\, Alpharetta\, GA\, 30004\, us
ATTACH;FMTTYPE=image/jpeg:https://krcsmensgroup.com/wp-content/uploads/2023/12/1024x576-XLn7zk.tmp_.jpg
END:VEVENT
BEGIN:VEVENT
DTSTART;TZID=-05:00:20250121T193000
DTEND;TZID=-05:00:20250121T213000
DTSTAMP:20260423T182256
CREATED:20240816T202437Z
LAST-MODIFIED:20250121T185648Z
UID:24594-1737487800-1737495000@krcsmensgroup.com
SUMMARY:Crossroads Chronicles: Pray First
DESCRIPTION:
URL:https://krcsmensgroup.com/event/crossroads-chronicles-pray-first/
LOCATION:15450 Alpha Woods Dr\, 15450 Alpha Woods Dr\, Alpharetta\, GA\, 30004\, us
ATTACH;FMTTYPE=image/jpeg:https://krcsmensgroup.com/wp-content/uploads/2025/01/1024x576-OaSBP2.tmp_.jpg
END:VEVENT
BEGIN:VEVENT
DTSTART;TZID=-05:00:20250124T070000
DTEND;TZID=-05:00:20250124T083000
DTSTAMP:20260423T182256
CREATED:20240731T200044Z
LAST-MODIFIED:20250123T185424Z
UID:24512-1737702000-1737707400@krcsmensgroup.com
SUMMARY:Men's Group Meetup at the Student Center
DESCRIPTION:
URL:https://krcsmensgroup.com/event/mens-group-meetup-at-the-student-center-24/
LOCATION:King’s Ridge Christian School\, 2765 Bethany Bend\, Alpharetta\, GA\, 30004\, us
ATTACH;FMTTYPE=image/jpeg:https://krcsmensgroup.com/wp-content/uploads/2023/12/1024x576-XLn7zk.tmp_.jpg
END:VEVENT
BEGIN:VEVENT
DTSTART;TZID=-05:00:20250127T080000
DTEND;TZID=-05:00:20250127T093000
DTSTAMP:20260423T182256
CREATED:20250117T185429Z
LAST-MODIFIED:20250126T185430Z
UID:24877-1737964800-1737970200@krcsmensgroup.com
SUMMARY:KRCS Men's Breakfast Club at First Watch
DESCRIPTION:
URL:https://krcsmensgroup.com/event/krcs-mens-breakfast-club-at-first-watch-4/
ATTACH;FMTTYPE=image/jpeg:https://krcsmensgroup.com/wp-content/uploads/2025/01/1024x576-6WITxi.tmp_.jpg
END:VEVENT
END:VCALENDAR