BEGIN:VCALENDAR
VERSION:2.0
PRODID:-//KRCS Men&#039;s Group - ECPv6.2.8.2//NONSGML v1.0//EN
CALSCALE:GREGORIAN
METHOD:PUBLISH
X-WR-CALNAME:KRCS Men&#039;s Group
X-ORIGINAL-URL:https://krcsmensgroup.com
X-WR-CALDESC:Events for KRCS Men&#039;s Group
REFRESH-INTERVAL;VALUE=DURATION:PT1H
X-Robots-Tag:noindex
X-PUBLISHED-TTL:PT1H
BEGIN:VTIMEZONE
TZID:-04:00
TZID:-05:00
END:VTIMEZONE
BEGIN:VEVENT
DTSTART;TZID=-04:00:20241101T070000
DTEND;TZID=-04:00:20241101T083000
DTSTAMP:20260423T221821
CREATED:20240731T200044Z
LAST-MODIFIED:20241031T215611Z
UID:24507-1730444400-1730449800@krcsmensgroup.com
SUMMARY:Men's Group Meetup at Howe Commons in the Upper School
DESCRIPTION:
URL:https://krcsmensgroup.com/event/mens-group-meetup-at-the-student-center-19/
LOCATION:King’s Ridge Christian School\, 2765 Bethany Bend\, Alpharetta\, GA\, 30004\, us
ATTACH;FMTTYPE=image/jpeg:https://krcsmensgroup.com/wp-content/uploads/2023/12/1024x576-XLn7zk.tmp_.jpg
END:VEVENT
BEGIN:VEVENT
DTSTART;TZID=-04:00:20241101T100000
DTEND;TZID=-04:00:20241101T133000
DTSTAMP:20260423T221821
CREATED:20241011T212644Z
LAST-MODIFIED:20241031T215611Z
UID:24751-1730455200-1730467800@krcsmensgroup.com
SUMMARY:Upper School Homecoming Lunch (Volunteers Needed)
DESCRIPTION:
URL:https://krcsmensgroup.com/event/upper-school-homecoming-lunch-volunteers-needed/
ATTACH;FMTTYPE=image/jpeg:https://krcsmensgroup.com/wp-content/uploads/2024/09/1024x576-aGBE4p.tmp_.jpg
END:VEVENT
BEGIN:VEVENT
DTSTART;TZID=-05:00:20241104T080000
DTEND;TZID=-05:00:20241104T093000
DTSTAMP:20260423T221821
CREATED:20241019T214029Z
LAST-MODIFIED:20241103T220922Z
UID:24766-1730707200-1730712600@krcsmensgroup.com
SUMMARY:KRCS Men's Breakfast Club at First Watch
DESCRIPTION:
URL:https://krcsmensgroup.com/event/krcs-mens-breakfast-club-at-first-watch-3/
ATTACH;FMTTYPE=image/jpeg:https://krcsmensgroup.com/wp-content/uploads/2024/01/1024x576-a6tisc.tmp_.jpg
END:VEVENT
BEGIN:VEVENT
DTSTART;TZID=-05:00:20241115T070000
DTEND;TZID=-05:00:20241115T083000
DTSTAMP:20260423T221821
CREATED:20240731T200044Z
LAST-MODIFIED:20241114T220948Z
UID:24508-1731654000-1731659400@krcsmensgroup.com
SUMMARY:Men's Group Meetup at the Student Center
DESCRIPTION:
URL:https://krcsmensgroup.com/event/mens-group-meetup-at-the-student-center-20/
LOCATION:King’s Ridge Christian School\, 2765 Bethany Bend\, Alpharetta\, GA\, 30004\, us
ATTACH;FMTTYPE=image/jpeg:https://krcsmensgroup.com/wp-content/uploads/2023/12/1024x576-XLn7zk.tmp_.jpg
END:VEVENT
BEGIN:VEVENT
DTSTART;TZID=-05:00:20241118T073000
DTEND;TZID=-05:00:20241118T093000
DTSTAMP:20260423T221821
CREATED:20240811T202423Z
LAST-MODIFIED:20241117T221007Z
UID:24580-1731915000-1731922200@krcsmensgroup.com
SUMMARY:High-Five Mornings - Upper School Drop Off
DESCRIPTION:
URL:https://krcsmensgroup.com/event/high-five-mornings-upper-school-drop-off-5/
ATTACH;FMTTYPE=image/jpeg:https://krcsmensgroup.com/wp-content/uploads/2024/01/1024x576-G7keln.tmp_.jpg
END:VEVENT
BEGIN:VEVENT
DTSTART;TZID=-05:00:20241118T073000
DTEND;TZID=-05:00:20241118T093000
DTSTAMP:20260423T221821
CREATED:20240811T202423Z
LAST-MODIFIED:20241117T221007Z
UID:24581-1731915000-1731922200@krcsmensgroup.com
SUMMARY:High-Five Mornings - Middle School Drop Off
DESCRIPTION:
URL:https://krcsmensgroup.com/event/high-five-mornings-middle-school-drop-off-7/
ATTACH;FMTTYPE=image/jpeg:https://krcsmensgroup.com/wp-content/uploads/2024/01/1024x576-G7keln.tmp_.jpg
END:VEVENT
BEGIN:VEVENT
DTSTART;TZID=-05:00:20241118T120000
DTEND;TZID=-05:00:20241118T133000
DTSTAMP:20260423T221821
CREATED:20241019T214032Z
LAST-MODIFIED:20241117T221007Z
UID:24768-1731931200-1731936600@krcsmensgroup.com
SUMMARY:KRCS Men's Lunch Club
DESCRIPTION:
URL:https://krcsmensgroup.com/event/krcs-mens-lunch-club-4/
ATTACH;FMTTYPE=image/jpeg:https://krcsmensgroup.com/wp-content/uploads/2024/01/1024x576-tGkQDx.tmp_.jpg
END:VEVENT
END:VCALENDAR