BEGIN:VCALENDAR
VERSION:2.0
PRODID:-//KRCS Men&#039;s Group - ECPv6.2.8.2//NONSGML v1.0//EN
CALSCALE:GREGORIAN
METHOD:PUBLISH
X-ORIGINAL-URL:https://krcsmensgroup.com
X-WR-CALDESC:Events for KRCS Men&#039;s Group
REFRESH-INTERVAL;VALUE=DURATION:PT1H
X-Robots-Tag:noindex
X-PUBLISHED-TTL:PT1H
BEGIN:VTIMEZONE
TZID:-04:00
TZID:-05:00
END:VTIMEZONE
BEGIN:VEVENT
DTSTART;TZID=-04:00:20251016T183000
DTEND;TZID=-04:00:20251016T223000
DTSTAMP:20260422T175523
CREATED:20250922T102429Z
LAST-MODIFIED:20250923T102425Z
UID:25302-1760639400-1760653800@krcsmensgroup.com
SUMMARY:Poker Night
DESCRIPTION:
URL:https://krcsmensgroup.com/event/poker-night/
ATTACH;FMTTYPE=image/jpeg:https://krcsmensgroup.com/wp-content/uploads/2025/09/1024x576-8oZzR2.tmp_.jpg
END:VEVENT
BEGIN:VEVENT
DTSTART;TZID=-04:00:20251017T072000
DTEND;TZID=-04:00:20251017T075000
DTSTAMP:20260422T175523
CREATED:20250816T090926Z
LAST-MODIFIED:20250923T102425Z
UID:25233-1760685600-1760687400@krcsmensgroup.com
SUMMARY:High-Five Mornings - Lower School Drop Off
DESCRIPTION:
URL:https://krcsmensgroup.com/event/high-five-mornings-lower-school-drop-off-11/
ATTACH;FMTTYPE=image/jpeg:https://krcsmensgroup.com/wp-content/uploads/2024/01/1024x576-G7keln.tmp_.jpg
END:VEVENT
BEGIN:VEVENT
DTSTART;TZID=-04:00:20251017T073000
DTEND;TZID=-04:00:20251017T080000
DTSTAMP:20260422T175523
CREATED:20250816T090926Z
LAST-MODIFIED:20250923T102425Z
UID:25235-1760686200-1760688000@krcsmensgroup.com
SUMMARY:High-Five Mornings - Middle School Drop Off
DESCRIPTION:
URL:https://krcsmensgroup.com/event/high-five-mornings-middle-school-drop-off-10/
ATTACH;FMTTYPE=image/jpeg:https://krcsmensgroup.com/wp-content/uploads/2024/01/1024x576-G7keln.tmp_.jpg
END:VEVENT
BEGIN:VEVENT
DTSTART;TZID=-04:00:20251017T073000
DTEND;TZID=-04:00:20251017T080000
DTSTAMP:20260422T175523
CREATED:20250816T090926Z
LAST-MODIFIED:20250923T102425Z
UID:25234-1760686200-1760688000@krcsmensgroup.com
SUMMARY:High-Five Mornings - Upper School Drop Off
DESCRIPTION:
URL:https://krcsmensgroup.com/event/high-five-mornings-upper-school-drop-off-8/
ATTACH;FMTTYPE=image/jpeg:https://krcsmensgroup.com/wp-content/uploads/2024/01/1024x576-G7keln.tmp_.jpg
END:VEVENT
BEGIN:VEVENT
DTSTART;TZID=-04:00:20251024T070000
DTEND;TZID=-04:00:20251024T083000
DTSTAMP:20260422T175523
CREATED:20250626T230937Z
LAST-MODIFIED:20250923T102425Z
UID:25127-1761289200-1761294600@krcsmensgroup.com
SUMMARY:Men's Group Meetup at the Student Center
DESCRIPTION:
URL:https://krcsmensgroup.com/event/mens-group-meetup-at-the-student-center-37/
ATTACH;FMTTYPE=image/jpeg:https://krcsmensgroup.com/wp-content/uploads/2023/12/1024x576-XLn7zk.tmp_.jpg
END:VEVENT
BEGIN:VEVENT
DTSTART;TZID=-04:00:20251027T080000
DTEND;TZID=-04:00:20251027T090000
DTSTAMP:20260422T175523
CREATED:20250922T102431Z
LAST-MODIFIED:20250923T102425Z
UID:25306-1761552000-1761555600@krcsmensgroup.com
SUMMARY:KRCS Men's Breakfast Club at First Watch
DESCRIPTION:
URL:https://krcsmensgroup.com/event/krcs-mens-breakfast-club-at-first-watch-6/
ATTACH;FMTTYPE=image/jpeg:https://krcsmensgroup.com/wp-content/uploads/2025/01/1024x576-6WITxi.tmp_.jpg
END:VEVENT
BEGIN:VEVENT
DTSTART;TZID=-04:00:20251031T100000
DTEND;TZID=-04:00:20251031T120000
DTSTAMP:20260422T175523
CREATED:20250923T102425Z
LAST-MODIFIED:20250923T102425Z
UID:25315-1761904800-1761912000@krcsmensgroup.com
SUMMARY:Halloween Upper School Grill-out (Volunteers Needed)
DESCRIPTION:
URL:https://krcsmensgroup.com/event/halloween-upper-school-grill-out-volunteers-needed/
ATTACH;FMTTYPE=image/jpeg:https://krcsmensgroup.com/wp-content/uploads/2025/09/1024x576-0J8rJz.tmp_.jpg
END:VEVENT
BEGIN:VEVENT
DTSTART;TZID=-05:00:20251107T070000
DTEND;TZID=-05:00:20251107T083000
DTSTAMP:20260422T175523
CREATED:20250626T230937Z
LAST-MODIFIED:20250923T102425Z
UID:25128-1762498800-1762504200@krcsmensgroup.com
SUMMARY:Men's Group Meetup at the Student Center
DESCRIPTION:
URL:https://krcsmensgroup.com/event/mens-group-meetup-at-the-student-center-38/
ATTACH;FMTTYPE=image/jpeg:https://krcsmensgroup.com/wp-content/uploads/2023/12/1024x576-XLn7zk.tmp_.jpg
END:VEVENT
BEGIN:VEVENT
DTSTART;TZID=-05:00:20251111T080000
DTEND;TZID=-05:00:20251111T090000
DTSTAMP:20260422T175523
CREATED:20250821T090921Z
LAST-MODIFIED:20250923T102425Z
UID:25254-1762848000-1762851600@krcsmensgroup.com
SUMMARY:JOY Prayer Warriors
DESCRIPTION:
URL:https://krcsmensgroup.com/event/joy-prayer-warriors-3/
ATTACH;FMTTYPE=image/jpeg:https://krcsmensgroup.com/wp-content/uploads/2025/08/1024x576-cWrpaM.tmp_.jpg
END:VEVENT
BEGIN:VEVENT
DTSTART;TZID=-05:00:20251209T080000
DTEND;TZID=-05:00:20251209T090000
DTSTAMP:20260422T175523
CREATED:20250821T090921Z
LAST-MODIFIED:20250923T102426Z
UID:25255-1765267200-1765270800@krcsmensgroup.com
SUMMARY:JOY Prayer Warriors
DESCRIPTION:
URL:https://krcsmensgroup.com/event/joy-prayer-warriors-4/
ATTACH;FMTTYPE=image/jpeg:https://krcsmensgroup.com/wp-content/uploads/2025/08/1024x576-cWrpaM.tmp_.jpg
END:VEVENT
BEGIN:VEVENT
DTSTART;TZID=-05:00:20251212T070000
DTEND;TZID=-05:00:20251212T083000
DTSTAMP:20260422T175523
CREATED:20250626T230937Z
LAST-MODIFIED:20250923T102426Z
UID:25129-1765522800-1765528200@krcsmensgroup.com
SUMMARY:Men's Group Meetup at the Student Center
DESCRIPTION:
URL:https://krcsmensgroup.com/event/mens-group-meetup-at-the-student-center-39/
ATTACH;FMTTYPE=image/jpeg:https://krcsmensgroup.com/wp-content/uploads/2023/12/1024x576-XLn7zk.tmp_.jpg
END:VEVENT
BEGIN:VEVENT
DTSTART;TZID=-05:00:20260109T070000
DTEND;TZID=-05:00:20260109T083000
DTSTAMP:20260422T175523
CREATED:20250626T230938Z
LAST-MODIFIED:20250923T102426Z
UID:25138-1767942000-1767947400@krcsmensgroup.com
SUMMARY:Men's Group Meetup at the Student Center
DESCRIPTION:
URL:https://krcsmensgroup.com/event/mens-group-meetup-at-the-student-center-40/
ATTACH;FMTTYPE=image/jpeg:https://krcsmensgroup.com/wp-content/uploads/2023/12/1024x576-XLn7zk.tmp_.jpg
END:VEVENT
BEGIN:VEVENT
DTSTART;TZID=-05:00:20260123T070000
DTEND;TZID=-05:00:20260123T083000
DTSTAMP:20260422T175523
CREATED:20250626T230938Z
LAST-MODIFIED:20250923T102426Z
UID:25139-1769151600-1769157000@krcsmensgroup.com
SUMMARY:Men's Group Meetup at the Student Center
DESCRIPTION:
URL:https://krcsmensgroup.com/event/mens-group-meetup-at-the-student-center-41/
ATTACH;FMTTYPE=image/jpeg:https://krcsmensgroup.com/wp-content/uploads/2023/12/1024x576-XLn7zk.tmp_.jpg
END:VEVENT
BEGIN:VEVENT
DTSTART;TZID=-05:00:20260127T080000
DTEND;TZID=-05:00:20260127T090000
DTSTAMP:20260422T175523
CREATED:20250821T090921Z
LAST-MODIFIED:20250923T102426Z
UID:25256-1769500800-1769504400@krcsmensgroup.com
SUMMARY:JOY Prayer Warriors
DESCRIPTION:
URL:https://krcsmensgroup.com/event/joy-prayer-warriors-5/
ATTACH;FMTTYPE=image/jpeg:https://krcsmensgroup.com/wp-content/uploads/2025/08/1024x576-cWrpaM.tmp_.jpg
END:VEVENT
BEGIN:VEVENT
DTSTART;TZID=-05:00:20260206T070000
DTEND;TZID=-05:00:20260206T083000
DTSTAMP:20260422T175523
CREATED:20250626T230938Z
LAST-MODIFIED:20250923T102426Z
UID:25140-1770361200-1770366600@krcsmensgroup.com
SUMMARY:Men's Group Meetup at the Student Center
DESCRIPTION:
URL:https://krcsmensgroup.com/event/mens-group-meetup-at-the-student-center-42/
ATTACH;FMTTYPE=image/jpeg:https://krcsmensgroup.com/wp-content/uploads/2023/12/1024x576-XLn7zk.tmp_.jpg
END:VEVENT
BEGIN:VEVENT
DTSTART;TZID=-05:00:20260227T070000
DTEND;TZID=-05:00:20260227T083000
DTSTAMP:20260422T175523
CREATED:20250626T230938Z
LAST-MODIFIED:20250923T102426Z
UID:25141-1772175600-1772181000@krcsmensgroup.com
SUMMARY:Men's Group Meetup at the Student Center
DESCRIPTION:
URL:https://krcsmensgroup.com/event/mens-group-meetup-at-the-student-center-43/
ATTACH;FMTTYPE=image/jpeg:https://krcsmensgroup.com/wp-content/uploads/2023/12/1024x576-XLn7zk.tmp_.jpg
END:VEVENT
BEGIN:VEVENT
DTSTART;TZID=-04:00:20260310T080000
DTEND;TZID=-04:00:20260310T090000
DTSTAMP:20260422T175523
CREATED:20250821T090921Z
LAST-MODIFIED:20250923T102426Z
UID:25257-1773129600-1773133200@krcsmensgroup.com
SUMMARY:JOY Prayer Warriors
DESCRIPTION:
URL:https://krcsmensgroup.com/event/joy-prayer-warriors-6/
ATTACH;FMTTYPE=image/jpeg:https://krcsmensgroup.com/wp-content/uploads/2025/08/1024x576-cWrpaM.tmp_.jpg
END:VEVENT
BEGIN:VEVENT
DTSTART;TZID=-04:00:20260313T070000
DTEND;TZID=-04:00:20260313T083000
DTSTAMP:20260422T175523
CREATED:20250626T230938Z
LAST-MODIFIED:20250923T102426Z
UID:25142-1773385200-1773390600@krcsmensgroup.com
SUMMARY:Men's Group Meetup at the Student Center
DESCRIPTION:
URL:https://krcsmensgroup.com/event/mens-group-meetup-at-the-student-center-44/
ATTACH;FMTTYPE=image/jpeg:https://krcsmensgroup.com/wp-content/uploads/2023/12/1024x576-XLn7zk.tmp_.jpg
END:VEVENT
BEGIN:VEVENT
DTSTART;TZID=-04:00:20260327T070000
DTEND;TZID=-04:00:20260327T083000
DTSTAMP:20260422T175523
CREATED:20250626T230938Z
LAST-MODIFIED:20250923T102426Z
UID:25143-1774594800-1774600200@krcsmensgroup.com
SUMMARY:Men's Group Meetup at the Student Center
DESCRIPTION:
URL:https://krcsmensgroup.com/event/mens-group-meetup-at-the-student-center-45/
ATTACH;FMTTYPE=image/jpeg:https://krcsmensgroup.com/wp-content/uploads/2023/12/1024x576-XLn7zk.tmp_.jpg
END:VEVENT
BEGIN:VEVENT
DTSTART;TZID=-04:00:20260330T190000
DTEND;TZID=-04:00:20260403T070000
DTSTAMP:20260422T175523
CREATED:20250626T230938Z
LAST-MODIFIED:20250923T102426Z
UID:25144-1774897200-1775199600@krcsmensgroup.com
SUMMARY:Easter Fast
DESCRIPTION:
URL:https://krcsmensgroup.com/event/easter-fast-2/
ATTACH;FMTTYPE=image/jpeg:https://krcsmensgroup.com/wp-content/uploads/2025/04/1024x576-4NX3dS.tmp_.jpg
END:VEVENT
BEGIN:VEVENT
DTSTART;TZID=-04:00:20260417T070000
DTEND;TZID=-04:00:20260417T083000
DTSTAMP:20260422T175523
CREATED:20250626T230938Z
LAST-MODIFIED:20250923T102426Z
UID:25145-1776409200-1776414600@krcsmensgroup.com
SUMMARY:Men's Group Meetup at the Student Center
DESCRIPTION:
URL:https://krcsmensgroup.com/event/mens-group-meetup-at-the-student-center-46/
ATTACH;FMTTYPE=image/jpeg:https://krcsmensgroup.com/wp-content/uploads/2023/12/1024x576-XLn7zk.tmp_.jpg
END:VEVENT
BEGIN:VEVENT
DTSTART;TZID=-04:00:20260505T080000
DTEND;TZID=-04:00:20260505T090000
DTSTAMP:20260422T175523
CREATED:20250821T090922Z
LAST-MODIFIED:20250923T102426Z
UID:25258-1777968000-1777971600@krcsmensgroup.com
SUMMARY:JOY Prayer Warriors
DESCRIPTION:
URL:https://krcsmensgroup.com/event/joy-prayer-warriors-7/
ATTACH;FMTTYPE=image/jpeg:https://krcsmensgroup.com/wp-content/uploads/2025/08/1024x576-cWrpaM.tmp_.jpg
END:VEVENT
BEGIN:VEVENT
DTSTART;TZID=-04:00:20260508T070000
DTEND;TZID=-04:00:20260508T083000
DTSTAMP:20260422T175523
CREATED:20250626T230938Z
LAST-MODIFIED:20250923T102426Z
UID:25146-1778223600-1778229000@krcsmensgroup.com
SUMMARY:Men's Group Meetup at the Student Center
DESCRIPTION:
URL:https://krcsmensgroup.com/event/mens-group-meetup-at-the-student-center-47/
ATTACH;FMTTYPE=image/jpeg:https://krcsmensgroup.com/wp-content/uploads/2023/12/1024x576-XLn7zk.tmp_.jpg
END:VEVENT
BEGIN:VEVENT
DTSTART;TZID=-04:00:20260515T070000
DTEND;TZID=-04:00:20260515T083000
DTSTAMP:20260422T175523
CREATED:20250626T230938Z
LAST-MODIFIED:20250923T102426Z
UID:25147-1778828400-1778833800@krcsmensgroup.com
SUMMARY:Men's Group Meetup at the Student Center
DESCRIPTION:
URL:https://krcsmensgroup.com/event/mens-group-meetup-at-the-student-center-48/
ATTACH;FMTTYPE=image/jpeg:https://krcsmensgroup.com/wp-content/uploads/2023/12/1024x576-XLn7zk.tmp_.jpg
END:VEVENT
END:VCALENDAR