BEGIN:VCALENDAR
VERSION:2.0
PRODID:-//KRCS Men&#039;s Group - ECPv6.2.8.2//NONSGML v1.0//EN
CALSCALE:GREGORIAN
METHOD:PUBLISH
X-WR-CALNAME:KRCS Men&#039;s Group
X-ORIGINAL-URL:https://krcsmensgroup.com
X-WR-CALDESC:Events for KRCS Men&#039;s Group
REFRESH-INTERVAL;VALUE=DURATION:PT1H
X-Robots-Tag:noindex
X-PUBLISHED-TTL:PT1H
BEGIN:VTIMEZONE
TZID:-04:00
END:VTIMEZONE
BEGIN:VEVENT
DTSTART;TZID=-04:00:20250812T163000
DTEND;TZID=-04:00:20250819T203000
DTSTAMP:20260422T203524
CREATED:20250801T085421Z
LAST-MODIFIED:20250815T090924Z
UID:25197-1755016200-1755635400@krcsmensgroup.com
SUMMARY:Upper School Back to School - Multiple Spots (Volunteers Needed)
DESCRIPTION:
URL:https://krcsmensgroup.com/event/upper-school-back-to-school-multiple-spots-volunteers-needed/
ATTACH;FMTTYPE=image/jpeg:https://krcsmensgroup.com/wp-content/uploads/2023/12/1024x576-GDt5rY.tmp_.jpg
END:VEVENT
BEGIN:VEVENT
DTSTART;TZID=-04:00:20250814T180000
DTEND;TZID=-04:00:20250814T200000
DTSTAMP:20260422T203524
CREATED:20250812T091016Z
LAST-MODIFIED:20250814T090922Z
UID:25220-1755194400-1755201600@krcsmensgroup.com
SUMMARY:KRCS Men's Group Tailgate Prep Session
DESCRIPTION:
URL:https://krcsmensgroup.com/event/krcs-mens-group-tailgate-prep-session-2/
ATTACH;FMTTYPE=image/jpeg:https://krcsmensgroup.com/wp-content/uploads/2025/08/1024x576-Z5a47i.tmp_.jpg
END:VEVENT
END:VCALENDAR