BEGIN:VCALENDAR
VERSION:2.0
PRODID:-//KRCS Men&#039;s Group - ECPv6.2.8.2//NONSGML v1.0//EN
CALSCALE:GREGORIAN
METHOD:PUBLISH
X-ORIGINAL-URL:https://krcsmensgroup.com
X-WR-CALDESC:Events for KRCS Men&#039;s Group
REFRESH-INTERVAL;VALUE=DURATION:PT1H
X-Robots-Tag:noindex
X-PUBLISHED-TTL:PT1H
BEGIN:VTIMEZONE
TZID:-04:00
END:VTIMEZONE
BEGIN:VEVENT
DTSTART;TZID=-04:00:20250505T170000
DTEND;TZID=-04:00:20250505T180000
DTSTAMP:20260423T052350
CREATED:20240531T101132Z
LAST-MODIFIED:20250505T205438Z
UID:24393-1746464400-1746468000@krcsmensgroup.com
SUMMARY:Senior Boys Prayer
DESCRIPTION:
URL:https://krcsmensgroup.com/event/senior-boys-prayer-2/
ATTACH;FMTTYPE=image/jpeg:https://krcsmensgroup.com/wp-content/uploads/2024/04/1024x576-u1gWX1.tmp_.jpg
END:VEVENT
END:VCALENDAR