BEGIN:VCALENDAR
VERSION:2.0
PRODID:-//KRCS Men&#039;s Group - ECPv6.2.8.2//NONSGML v1.0//EN
CALSCALE:GREGORIAN
METHOD:PUBLISH
X-ORIGINAL-URL:https://krcsmensgroup.com
X-WR-CALDESC:Events for KRCS Men&#039;s Group
REFRESH-INTERVAL;VALUE=DURATION:PT1H
X-Robots-Tag:noindex
X-PUBLISHED-TTL:PT1H
BEGIN:VTIMEZONE
TZID:-05:00
END:VTIMEZONE
BEGIN:VEVENT
DTSTART;TZID=-05:00:20241213T070000
DTEND;TZID=-05:00:20241213T083000
DTSTAMP:20260423T222100
CREATED:20240731T200044Z
LAST-MODIFIED:20241212T230934Z
UID:24510-1734073200-1734078600@krcsmensgroup.com
SUMMARY:Men's Group Meetup at the Student Center
DESCRIPTION:
URL:https://krcsmensgroup.com/event/mens-group-meetup-at-the-student-center-22/
LOCATION:King’s Ridge Christian School\, 2765 Bethany Bend\, Alpharetta\, GA\, 30004\, us
ATTACH;FMTTYPE=image/jpeg:https://krcsmensgroup.com/wp-content/uploads/2023/12/1024x576-XLn7zk.tmp_.jpg
END:VEVENT
END:VCALENDAR