BEGIN:VCALENDAR
VERSION:2.0
PRODID:-//KRCS Men&#039;s Group - ECPv6.2.8.2//NONSGML v1.0//EN
CALSCALE:GREGORIAN
METHOD:PUBLISH
X-ORIGINAL-URL:https://krcsmensgroup.com
X-WR-CALDESC:Events for KRCS Men&#039;s Group
REFRESH-INTERVAL;VALUE=DURATION:PT1H
X-Robots-Tag:noindex
X-PUBLISHED-TTL:PT1H
BEGIN:VTIMEZONE
TZID:-05:00
END:VTIMEZONE
BEGIN:VEVENT
DTSTART;TZID=-05:00:20241118T073000
DTEND;TZID=-05:00:20241118T093000
DTSTAMP:20260423T233541
CREATED:20240811T202423Z
LAST-MODIFIED:20241117T221007Z
UID:24580-1731915000-1731922200@krcsmensgroup.com
SUMMARY:High-Five Mornings - Upper School Drop Off
DESCRIPTION:
URL:https://krcsmensgroup.com/event/high-five-mornings-upper-school-drop-off-5/
ATTACH;FMTTYPE=image/jpeg:https://krcsmensgroup.com/wp-content/uploads/2024/01/1024x576-G7keln.tmp_.jpg
END:VEVENT
BEGIN:VEVENT
DTSTART;TZID=-05:00:20241118T073000
DTEND;TZID=-05:00:20241118T093000
DTSTAMP:20260423T233541
CREATED:20240811T202423Z
LAST-MODIFIED:20241117T221007Z
UID:24581-1731915000-1731922200@krcsmensgroup.com
SUMMARY:High-Five Mornings - Middle School Drop Off
DESCRIPTION:
URL:https://krcsmensgroup.com/event/high-five-mornings-middle-school-drop-off-7/
ATTACH;FMTTYPE=image/jpeg:https://krcsmensgroup.com/wp-content/uploads/2024/01/1024x576-G7keln.tmp_.jpg
END:VEVENT
BEGIN:VEVENT
DTSTART;TZID=-05:00:20241118T120000
DTEND;TZID=-05:00:20241118T133000
DTSTAMP:20260423T233541
CREATED:20241019T214032Z
LAST-MODIFIED:20241117T221007Z
UID:24768-1731931200-1731936600@krcsmensgroup.com
SUMMARY:KRCS Men's Lunch Club
DESCRIPTION:
URL:https://krcsmensgroup.com/event/krcs-mens-lunch-club-4/
ATTACH;FMTTYPE=image/jpeg:https://krcsmensgroup.com/wp-content/uploads/2024/01/1024x576-tGkQDx.tmp_.jpg
END:VEVENT
END:VCALENDAR