BEGIN:VCALENDAR
VERSION:2.0
PRODID:-//KRCS Men&#039;s Group - ECPv6.2.8.2//NONSGML v1.0//EN
CALSCALE:GREGORIAN
METHOD:PUBLISH
X-WR-CALNAME:KRCS Men&#039;s Group
X-ORIGINAL-URL:https://krcsmensgroup.com
X-WR-CALDESC:Events for KRCS Men&#039;s Group
REFRESH-INTERVAL;VALUE=DURATION:PT1H
X-Robots-Tag:noindex
X-PUBLISHED-TTL:PT1H
BEGIN:VTIMEZONE
TZID:-04:00
END:VTIMEZONE
BEGIN:VEVENT
DTSTART;TZID=-04:00:20241030T144500
DTEND;TZID=-04:00:20241030T161500
DTSTAMP:20260423T233240
CREATED:20241027T215544Z
LAST-MODIFIED:20241029T215642Z
UID:24778-1730299500-1730304900@krcsmensgroup.com
SUMMARY:Lower School Trick or Treat (Volunteers Needed)
DESCRIPTION:
URL:https://krcsmensgroup.com/event/lower-school-trick-or-treat-volunteers-needed/
ATTACH;FMTTYPE=image/jpeg:https://krcsmensgroup.com/wp-content/uploads/2024/10/1024x576-A4YfPu.tmp_.jpg
END:VEVENT
END:VCALENDAR