BEGIN:VCALENDAR
VERSION:2.0
PRODID:-//KRCS Men&#039;s Group - ECPv6.2.8.2//NONSGML v1.0//EN
CALSCALE:GREGORIAN
METHOD:PUBLISH
X-WR-CALNAME:KRCS Men&#039;s Group
X-ORIGINAL-URL:https://krcsmensgroup.com
X-WR-CALDESC:Events for KRCS Men&#039;s Group
REFRESH-INTERVAL;VALUE=DURATION:PT1H
X-Robots-Tag:noindex
X-PUBLISHED-TTL:PT1H
BEGIN:VTIMEZONE
TZID:-04:00
END:VTIMEZONE
BEGIN:VEVENT
DTSTART;TZID=-04:00:20241025T173000
DTEND;TZID=-04:00:20241025T190000
DTSTAMP:20260424T010047
CREATED:20240730T194048Z
LAST-MODIFIED:20241025T214006Z
UID:24462-1729877400-1729882800@krcsmensgroup.com
SUMMARY:KR Men's Group Hosted - Tiger Tailgate
DESCRIPTION:
URL:https://krcsmensgroup.com/event/kr-mens-group-hosted-tiger-tailgate/
LOCATION:King’s Ridge Christian School\, 2765 Bethany Bend\, Alpharetta\, GA\, 30004\, us
ATTACH;FMTTYPE=image/jpeg:https://krcsmensgroup.com/wp-content/uploads/2024/07/1024x576-0l5yVh.tmp_.jpg
END:VEVENT
END:VCALENDAR