BEGIN:VCALENDAR
VERSION:2.0
PRODID:-//KRCS Men&#039;s Group - ECPv6.2.8.2//NONSGML v1.0//EN
CALSCALE:GREGORIAN
METHOD:PUBLISH
X-ORIGINAL-URL:https://krcsmensgroup.com
X-WR-CALDESC:Events for KRCS Men&#039;s Group
REFRESH-INTERVAL;VALUE=DURATION:PT1H
X-Robots-Tag:noindex
X-PUBLISHED-TTL:PT1H
BEGIN:VTIMEZONE
TZID:-04:00
END:VTIMEZONE
BEGIN:VEVENT
DTSTART;TZID=-04:00:20241024T080000
DTEND;TZID=-04:00:20241024T093000
DTSTAMP:20260424T010324
CREATED:20241017T212530Z
LAST-MODIFIED:20241017T212532Z
UID:24759-1729756800-1729762200@krcsmensgroup.com
SUMMARY:KR Business Networking Event
DESCRIPTION:
URL:https://krcsmensgroup.com/event/kr-business-networking-event/
ATTACH;FMTTYPE=image/jpeg:https://krcsmensgroup.com/wp-content/uploads/2024/10/1024x576-g0tTYR.tmp_.jpg
END:VEVENT
BEGIN:VEVENT
DTSTART;TZID=-04:00:20241024T080000
DTEND;TZID=-04:00:20241024T093000
DTSTAMP:20260424T010324
CREATED:20241017T212530Z
LAST-MODIFIED:20241023T213925Z
UID:24761-1729756800-1729762200@krcsmensgroup.com
SUMMARY:KR Business Networking Event
DESCRIPTION:
URL:https://krcsmensgroup.com/event/kr-business-networking-event-2/
ATTACH;FMTTYPE=image/jpeg:https://krcsmensgroup.com/wp-content/uploads/2024/10/1024x576-g0tTYR.tmp_.jpg
END:VEVENT
BEGIN:VEVENT
DTSTART;TZID=-04:00:20241024T193000
DTEND;TZID=-04:00:20241024T213000
DTSTAMP:20260424T010324
CREATED:20241004T212421Z
LAST-MODIFIED:20241024T213922Z
UID:24738-1729798200-1729805400@krcsmensgroup.com
SUMMARY:KRCS Men's Group Tailgate Prep Session
DESCRIPTION:
URL:https://krcsmensgroup.com/event/krcs-mens-group-tailgate-prep-session/
ATTACH;FMTTYPE=image/jpeg:https://krcsmensgroup.com/wp-content/uploads/2024/10/1024x576-DxzY0b.tmp_.jpg
END:VEVENT
END:VCALENDAR