BEGIN:VCALENDAR
VERSION:2.0
PRODID:-//KRCS Men&#039;s Group - ECPv6.2.8.2//NONSGML v1.0//EN
CALSCALE:GREGORIAN
METHOD:PUBLISH
X-WR-CALNAME:KRCS Men&#039;s Group
X-ORIGINAL-URL:https://krcsmensgroup.com
X-WR-CALDESC:Events for KRCS Men&#039;s Group
REFRESH-INTERVAL;VALUE=DURATION:PT1H
X-Robots-Tag:noindex
X-PUBLISHED-TTL:PT1H
BEGIN:VTIMEZONE
TZID:-04:00
END:VTIMEZONE
BEGIN:VEVENT
DTSTART;TZID=-04:00:20241022T083000
DTEND;TZID=-04:00:20241022T133000
DTSTAMP:20260424T010028
CREATED:20240903T212459Z
LAST-MODIFIED:20241021T214222Z
UID:24623-1729585800-1729603800@krcsmensgroup.com
SUMMARY:Young Life's North Fulton Open
DESCRIPTION:
URL:https://krcsmensgroup.com/event/young-lifes-north-fulton-open/
LOCATION:Manor Golf & Country Club\, 15951 Manor Club Dr\, Alpharetta\, Ge\, 30004\, us
ATTACH;FMTTYPE=image/jpeg:https://krcsmensgroup.com/wp-content/uploads/2024/09/1024x576-lEl3VA.tmp_.jpg
END:VEVENT
END:VCALENDAR