BEGIN:VCALENDAR
VERSION:2.0
PRODID:-//KRCS Men&#039;s Group - ECPv6.2.8.2//NONSGML v1.0//EN
CALSCALE:GREGORIAN
METHOD:PUBLISH
X-WR-CALNAME:KRCS Men&#039;s Group
X-ORIGINAL-URL:https://krcsmensgroup.com
X-WR-CALDESC:Events for KRCS Men&#039;s Group
REFRESH-INTERVAL;VALUE=DURATION:PT1H
X-Robots-Tag:noindex
X-PUBLISHED-TTL:PT1H
BEGIN:VTIMEZONE
TZID:-04:00
END:VTIMEZONE
BEGIN:VEVENT
DTSTART;TZID=-04:00:20241016T120000
DTEND;TZID=-04:00:20241016T130000
DTSTAMP:20260424T010051
CREATED:20241011T212642Z
LAST-MODIFIED:20241015T212525Z
UID:24748-1729080000-1729083600@krcsmensgroup.com
SUMMARY:HS Student Retreat Prayer - Hosted by KR Women's Group JOY Prayer Warriors
DESCRIPTION:
URL:https://krcsmensgroup.com/event/hs-student-retreat-prayer-hosted-by-kr-womens-group-joy-prayer-warriors/
ATTACH;FMTTYPE=image/jpeg:https://krcsmensgroup.com/wp-content/uploads/2024/10/1024x576-avXfqC.tmp_.jpg
END:VEVENT
END:VCALENDAR