BEGIN:VCALENDAR
VERSION:2.0
PRODID:-//KRCS Men&#039;s Group - ECPv6.2.8.2//NONSGML v1.0//EN
CALSCALE:GREGORIAN
METHOD:PUBLISH
X-WR-CALNAME:KRCS Men&#039;s Group
X-ORIGINAL-URL:https://krcsmensgroup.com
X-WR-CALDESC:Events for KRCS Men&#039;s Group
REFRESH-INTERVAL;VALUE=DURATION:PT1H
X-Robots-Tag:noindex
X-PUBLISHED-TTL:PT1H
BEGIN:VTIMEZONE
TZID:Africa/Abidjan
BEGIN:STANDARD
TZOFFSETFROM:+0000
TZOFFSETTO:+0000
TZNAME:GMT
DTSTART:20240101T000000
END:STANDARD
END:VTIMEZONE
BEGIN:VEVENT
DTSTART;TZID=Africa/Abidjan:20240927T103000
DTEND;TZID=Africa/Abidjan:20240927T133000
DTSTAMP:20260424T034959
CREATED:20240923T222421Z
LAST-MODIFIED:20240925T204916Z
UID:24692-1727433000-1727443800@krcsmensgroup.com
SUMMARY:CANCELLED: Upper School Homecoming Lunch
DESCRIPTION:CANCELLED due to weather \n**Location**: Outside Patio of Howe Commons & Green space\nLunch periods 12:00 and 12:40\n**Theme:** Cookout/Tailgate\n**Food**: Jordan (SAGE) will be providing hamburgers/hotdogs and all the sides and topping \nThe students will eat outside of Howe Commons on the tables and around the green space. We will have cornhole\, spike ball\, ladder ball\, etc.\, out on the lawn for them after they eat. \n**What we need:** \nA group of dads to grill! Please plan on arriving around 10:30 AM. \nFood would have to be completely ready and in the warming stations for the first group of kids who come through at noon. They don’t have a lot of time to eat\, so as long as they can grab hamburgers or hotdogs as soon as lunch starts\, they will have enough time to hang out on the lawn afterward. Then\, the second lunch would need to be ready right at 12:40. \n*There are 315 HS students plus about 70 teachers/staff. I would say about 200 will go through each period. \nAny questions\, contact Mac Plummer at 706-610-4994 \nThank you!!
URL:https://krcsmensgroup.com/event/upper-school-homecoming-lunch/
ATTACH;FMTTYPE=image/jpeg:https://krcsmensgroup.com/wp-content/uploads/2024/09/1024x576-aGBE4p.tmp_.jpg
END:VEVENT
END:VCALENDAR