BEGIN:VCALENDAR
VERSION:2.0
PRODID:-//KRCS Men&#039;s Group - ECPv6.2.8.2//NONSGML v1.0//EN
CALSCALE:GREGORIAN
METHOD:PUBLISH
X-WR-CALNAME:KRCS Men&#039;s Group
X-ORIGINAL-URL:https://krcsmensgroup.com
X-WR-CALDESC:Events for KRCS Men&#039;s Group
REFRESH-INTERVAL;VALUE=DURATION:PT1H
X-Robots-Tag:noindex
X-PUBLISHED-TTL:PT1H
BEGIN:VTIMEZONE
TZID:-04:00
END:VTIMEZONE
BEGIN:VEVENT
DTSTART;TZID=-04:00:20240920T063000
DTEND;TZID=-04:00:20240920T070000
DTSTAMP:20260424T034959
CREATED:20240918T215528Z
LAST-MODIFIED:20240919T215540Z
UID:24659-1726813800-1726815600@krcsmensgroup.com
SUMMARY:KR Men's Group - Prayer Walk
DESCRIPTION:KRCS Men – Join me on Friday morning before our Men’s session for a prayer walk on campus. \nStudent Center at 6:30 AM. I will walk the grounds and pray for the new HOS search\, etc. \nHope you can join Friday and invite others. \n#PowerInPrayer
URL:https://krcsmensgroup.com/event/kr-mens-group-prayer-walk/
LOCATION:King’s Ridge Student Center\, 2765 Bethany Bend\, Milton\, GA\, 30004\, us
ATTACH;FMTTYPE=image/jpeg:https://krcsmensgroup.com/wp-content/uploads/2024/09/1024x576-4OW3QS.tmp_.jpg
END:VEVENT
BEGIN:VEVENT
DTSTART;TZID=-04:00:20240920T070000
DTEND;TZID=-04:00:20240920T083000
DTSTAMP:20260424T034959
CREATED:20240731T200044Z
LAST-MODIFIED:20240919T215540Z
UID:24501-1726815600-1726821000@krcsmensgroup.com
SUMMARY:Men's Group Meetup at the Student Center
DESCRIPTION:We will be meeting at the Student Center. \nWe will start gathering at 7 am\, then formally start at 7:30 am\, and conclude at 8:30 am. \nPraying you can make it as we drive into the word and fellowship. Thanks be to God!
URL:https://krcsmensgroup.com/event/mens-group-meetup-at-the-student-center-15/
LOCATION:King’s Ridge Christian School\, 2765 Bethany Bend\, Alpharetta\, GA\, 30004\, us
ATTACH;FMTTYPE=image/jpeg:https://krcsmensgroup.com/wp-content/uploads/2023/12/1024x576-XLn7zk.tmp_.jpg
END:VEVENT
END:VCALENDAR