BEGIN:VCALENDAR
VERSION:2.0
PRODID:-//KRCS Men&#039;s Group - ECPv6.2.8.2//NONSGML v1.0//EN
CALSCALE:GREGORIAN
METHOD:PUBLISH
X-WR-CALNAME:KRCS Men&#039;s Group
X-ORIGINAL-URL:https://krcsmensgroup.com
X-WR-CALDESC:Events for KRCS Men&#039;s Group
REFRESH-INTERVAL;VALUE=DURATION:PT1H
X-Robots-Tag:noindex
X-PUBLISHED-TTL:PT1H
BEGIN:VTIMEZONE
TZID:-04:00
END:VTIMEZONE
BEGIN:VEVENT
DTSTART;TZID=-04:00:20240910T193000
DTEND;TZID=-04:00:20240910T213000
DTSTAMP:20260424T035000
CREATED:20240817T202459Z
LAST-MODIFIED:20240910T215422Z
UID:24597-1725996600-1726003800@krcsmensgroup.com
SUMMARY:Crossroads Chronicles: Seeing God as a Perfect Father
DESCRIPTION:**Crossroads Chronicles**\nA meeting of paths where faith and literature converge\, offering deep discussions at the intersection of life and faith. \n**Book of the Month**\nSeeing God as a Perfect Father: and Seeing You as Loved\, Pursued\, and Secure by Louie Giglio [https://a.co/d/8sjqZfG](https://a.co/d/8sjqZfG) \nYou are chosen\, loved\, prized\, wanted\, and believed in by a perfect Father. In Seeing God as a Perfect Father\, Louie Giglio invites us to experience God in a life-changing way: as a perfect Father who wants you to live under the waterfall of His blessing. \nHow you view God informs everything about who you are and who you’re becoming. In this updated and retitled edition of the national bestseller Not Forsaken\, Louie Giglio challenges our common perceptions of who God is and points us to know Him as a heavenly Father who is not absent or ambivalent but is available and ready to embrace us with His approval and blessing. \nSeeing God as a Perfect Father invites you to: \n* see that God is the perfection of your earthly father\, not a reflection of him\n* discover how to walk in the freedom of your identity as a loved child\, uniquely created by God\n* break the chains of generational patterns by forgiving your imperfect family \nWhen we take hold of the truth that God has spanned heaven and earth to reach us\, we will no longer be defined by our pasts but by the love of a perfect heavenly Father. When we rightly see God’s character\, we rightly see that we are loved\, pursued\, and secured by the Creator of the universe.
URL:https://krcsmensgroup.com/event/crossroads-chronicles-seeing-god-as-a-perfect-father/
LOCATION:15450 Alpha Woods Dr\, 15450 Alpha Woods Dr\, Alpharetta\, GA\, 30004\, us
ATTACH;FMTTYPE=image/jpeg:https://krcsmensgroup.com/wp-content/uploads/2024/02/1024x576-LnsOaf.tmp_.jpg
END:VEVENT
END:VCALENDAR