BEGIN:VCALENDAR
VERSION:2.0
PRODID:-//KRCS Men&#039;s Group - ECPv6.2.8.2//NONSGML v1.0//EN
CALSCALE:GREGORIAN
METHOD:PUBLISH
X-ORIGINAL-URL:https://krcsmensgroup.com
X-WR-CALDESC:Events for KRCS Men&#039;s Group
REFRESH-INTERVAL;VALUE=DURATION:PT1H
X-Robots-Tag:noindex
X-PUBLISHED-TTL:PT1H
BEGIN:VTIMEZONE
TZID:-04:00
END:VTIMEZONE
BEGIN:VEVENT
DTSTART;TZID=-04:00:20240830T071500
DTEND;TZID=-04:00:20240830T081500
DTSTAMP:20260424T035044
CREATED:20240811T202420Z
LAST-MODIFIED:20240829T212443Z
UID:24567-1725002100-1725005700@krcsmensgroup.com
SUMMARY:High-Five Mornings - Upper School Drop Off
DESCRIPTION:Let’s meet at upper school carpool lines as a group to greet our kids as they start their day! Would love to have 3+ dads at BOTH front and back drop off locations.
URL:https://krcsmensgroup.com/event/high-five-mornings-upper-school-drop-off-3/
ATTACH;FMTTYPE=image/jpeg:https://krcsmensgroup.com/wp-content/uploads/2024/01/1024x576-G7keln.tmp_.jpg
END:VEVENT
BEGIN:VEVENT
DTSTART;TZID=-04:00:20240830T071500
DTEND;TZID=-04:00:20240830T081500
DTSTAMP:20260424T035044
CREATED:20240811T202420Z
LAST-MODIFIED:20240829T212443Z
UID:24565-1725002100-1725005700@krcsmensgroup.com
SUMMARY:High-Five Mornings - Middle School Drop Off
DESCRIPTION:Let’s meet at middle school drop off to greet our kids as they start their day! Would love to have 4+ dads to give high fives to our Middle Schoolers.
URL:https://krcsmensgroup.com/event/high-five-mornings-middle-school-drop-off-5/
ATTACH;FMTTYPE=image/jpeg:https://krcsmensgroup.com/wp-content/uploads/2024/01/1024x576-G7keln.tmp_.jpg
END:VEVENT
BEGIN:VEVENT
DTSTART;TZID=-04:00:20240830T071500
DTEND;TZID=-04:00:20240830T081500
DTSTAMP:20260424T035044
CREATED:20240811T202420Z
LAST-MODIFIED:20240829T212443Z
UID:24566-1725002100-1725005700@krcsmensgroup.com
SUMMARY:High-Five Mornings - Lower School Drop Off
DESCRIPTION:Let’s meet at lower school carpool lines as a group to greet our kids as they start their day! Would love to have 3+ dads at BOTH front and back drop off locations.
URL:https://krcsmensgroup.com/event/high-five-mornings-lower-school-drop-off-4/
ATTACH;FMTTYPE=image/jpeg:https://krcsmensgroup.com/wp-content/uploads/2024/01/1024x576-G7keln.tmp_.jpg
END:VEVENT
END:VCALENDAR