BEGIN:VCALENDAR
VERSION:2.0
PRODID:-//KRCS Men&#039;s Group - ECPv6.2.8.2//NONSGML v1.0//EN
CALSCALE:GREGORIAN
METHOD:PUBLISH
X-ORIGINAL-URL:https://krcsmensgroup.com
X-WR-CALDESC:Events for KRCS Men&#039;s Group
REFRESH-INTERVAL;VALUE=DURATION:PT1H
X-Robots-Tag:noindex
X-PUBLISHED-TTL:PT1H
BEGIN:VTIMEZONE
TZID:-04:00
END:VTIMEZONE
BEGIN:VEVENT
DTSTART;TZID=-04:00:20240809T070000
DTEND;TZID=-04:00:20240809T083000
DTSTAMP:20260424T080724
CREATED:20240611T105555Z
LAST-MODIFIED:20240808T202433Z
UID:24409-1723186800-1723192200@krcsmensgroup.com
SUMMARY:Men's Group Meetup at Barry's House
DESCRIPTION:We will be meeting at Barry Spencer’s House. We’ll start gathering at 7am then formally start at 7:30am. We’ll conclude at 8:30am. \nGate Code: #9492\nBarry’s Cell: 770-313-4650
URL:https://krcsmensgroup.com/event/mens-group-meetup-at-barrys-house-5/
LOCATION:925 Foxhollow Run\, 925 Foxhollow Run\, Alpharetta\, GA\, 30004\, us
ATTACH;FMTTYPE=image/jpeg:https://krcsmensgroup.com/wp-content/uploads/2024/05/1024x576-q3iuVN.tmp_.jpg
END:VEVENT
END:VCALENDAR