BEGIN:VCALENDAR
VERSION:2.0
PRODID:-//KRCS Men&#039;s Group - ECPv6.2.8.2//NONSGML v1.0//EN
CALSCALE:GREGORIAN
METHOD:PUBLISH
X-ORIGINAL-URL:https://krcsmensgroup.com
X-WR-CALDESC:Events for KRCS Men&#039;s Group
REFRESH-INTERVAL;VALUE=DURATION:PT1H
X-Robots-Tag:noindex
X-PUBLISHED-TTL:PT1H
BEGIN:VTIMEZONE
TZID:-04:00
END:VTIMEZONE
BEGIN:VEVENT
DTSTART;TZID=-04:00:20240426T070000
DTEND;TZID=-04:00:20240426T083000
DTSTAMP:20260424T021921
CREATED:20231222T193648Z
LAST-MODIFIED:20240425T221318Z
UID:23906-1714114800-1714120200@krcsmensgroup.com
SUMMARY:Men's Group Meetup at the Student Center
DESCRIPTION:We will be meeting at the Student Center and continuing our study of the book of Matthew. \nWe will start gathering at 7 am\, then formally start at 7:30 am and conclude at 8:30 am. \nPraying you can make it as we drive into the word and fellowship. Thanks be to God!
URL:https://krcsmensgroup.com/event/mens-group-meetup-at-the-student-center-8/
LOCATION:King’s Ridge Christian School\, 2765 Bethany Bend\, Alpharetta\, GA\, 30004\, us
ATTACH;FMTTYPE=image/jpeg:https://krcsmensgroup.com/wp-content/uploads/2023/12/1024x576-XLn7zk.tmp_.jpg
END:VEVENT
END:VCALENDAR